{
 "currentVersion": 10.61,
 "serviceDescription": "AKK/ArteriObl_LakosnepessegGyakori",
 "name": "AKK/ArteriObl_LakosnepessegGyakori",
 "description": "",
 "extent": {
  "xmin": 16.539330870743658,
  "ymin": 46.00342563407743,
  "xmax": 22.920961199074355,
  "ymax": 48.552218677351235,
  "spatialReference": {
   "wkid": 4326,
   "latestWkid": 4326
  }
 },
 "initialExtent": {
  "xmin": 16.539330870743658,
  "ymin": 46.00342563407743,
  "xmax": 22.920961199074355,
  "ymax": 48.552218677351235,
  "spatialReference": {
   "wkid": 4326,
   "latestWkid": 4326
  }
 },
 "fullExtent": {
  "xmin": 16.539330870743658,
  "ymin": 46.00342563407743,
  "xmax": 22.920961199074355,
  "ymax": 48.552218677351235,
  "spatialReference": {
   "wkid": 4326,
   "latestWkid": 4326
  }
 },
 "pixelSizeX": 2.2436558479522895E-4,
 "pixelSizeY": 2.2436558479522922E-4,
 "bandCount": 1,
 "pixelType": "S32",
 "minPixelSize": 0,
 "maxPixelSize": 0,
 "copyrightText": "",
 "serviceDataType": "esriImageServiceDataTypeThematic",
 "minValues": [
  1087229
 ],
 "maxValues": [
  24208499
 ],
 "meanValues": [
  3255702.440042838
 ],
 "stdvValues": [
  1765196.2679919691
 ],
 "objectIdField": "",
 "fields": [],
 "capabilities": "Mensuration,Image,Metadata",
 "defaultMosaicMethod": "Center",
 "allowedMosaicMethods": "",
 "sortField": "",
 "sortValue": null,
 "mosaicOperator": "First",
 "defaultCompressionQuality": 75,
 "defaultResamplingMethod": "Bilinear",
 "maxImageHeight": 4100,
 "maxImageWidth": 15000,
 "allowRasterFunction": true,
 "rasterFunctionInfos": [
  {
   "name": "None",
   "description": "",
   "help": ""
  }
 ],
 "rasterTypeInfos": [
  {
   "name": "Raster Dataset",
   "description": "Supports all ArcGIS Raster Datasets",
   "help": ""
  }
 ],
 "mensurationCapabilities": "Basic",
 "hasHistograms": true,
 "hasColormap": false,
 "hasRasterAttributeTable": true,
 "minScale": 0,
 "maxScale": 0,
 "exportTilesAllowed": false,
 "hasMultidimensions": false,
 "supportsStatistics": false,
 "supportsAdvancedQueries": false,
 "editFieldsInfo": null,
 "ownershipBasedAccessControlForRasters": null,
 "allowComputeTiePoints": false,
 "useStandardizedQueries": true,
 "advancedQueryCapabilities": {
  "useStandardizedQueries": true,
  "supportsStatistics": false,
  "supportsOrderBy": false,
  "supportsDistinct": false,
  "supportsPagination": false
 },
 "spatialReference": {
  "wkid": 4326,
  "latestWkid": 4326
 }
}
