{
 "currentVersion": 10.61,
 "serviceDescription": "AKK/ArteriObl_LakosnepessegKozepes",
 "name": "AKK/ArteriObl_LakosnepessegKozepes",
 "description": "",
 "extent": {
  "xmin": 16.488020092015997,
  "ymin": 45.77641427442474,
  "xmax": 22.932921515258943,
  "ymax": 48.552938386265694,
  "spatialReference": {
   "wkid": 4326,
   "latestWkid": 4326
  }
 },
 "initialExtent": {
  "xmin": 16.488020092015997,
  "ymin": 45.77641427442474,
  "xmax": 22.932921515258943,
  "ymax": 48.552938386265694,
  "spatialReference": {
   "wkid": 4326,
   "latestWkid": 4326
  }
 },
 "fullExtent": {
  "xmin": 16.488020092015997,
  "ymin": 45.77641427442474,
  "xmax": 22.932921515258943,
  "ymax": 48.552938386265694,
  "spatialReference": {
   "wkid": 4326,
   "latestWkid": 4326
  }
 },
 "pixelSizeX": 2.2436558479522876E-4,
 "pixelSizeY": 2.243655847952288E-4,
 "bandCount": 1,
 "pixelType": "S32",
 "minPixelSize": 0,
 "maxPixelSize": 0,
 "copyrightText": "",
 "serviceDataType": "esriImageServiceDataTypeGeneric",
 "minValues": [
  728495
 ],
 "maxValues": [
  24208499
 ],
 "meanValues": [
  3399153.1109913606
 ],
 "stdvValues": [
  2139975.157305326
 ],
 "objectIdField": "",
 "fields": [],
 "capabilities": "Mensuration,Image,Metadata",
 "defaultMosaicMethod": "Center",
 "allowedMosaicMethods": "",
 "sortField": "",
 "sortValue": null,
 "mosaicOperator": "First",
 "defaultCompressionQuality": 75,
 "defaultResamplingMethod": "Bilinear",
 "maxImageHeight": 4100,
 "maxImageWidth": 15000,
 "allowRasterFunction": true,
 "rasterFunctionInfos": [
  {
   "name": "None",
   "description": "",
   "help": ""
  }
 ],
 "rasterTypeInfos": [
  {
   "name": "Raster Dataset",
   "description": "Supports all ArcGIS Raster Datasets",
   "help": ""
  }
 ],
 "mensurationCapabilities": "Basic",
 "hasHistograms": true,
 "hasColormap": false,
 "hasRasterAttributeTable": false,
 "minScale": 0,
 "maxScale": 0,
 "exportTilesAllowed": false,
 "hasMultidimensions": false,
 "supportsStatistics": false,
 "supportsAdvancedQueries": false,
 "editFieldsInfo": null,
 "ownershipBasedAccessControlForRasters": null,
 "allowComputeTiePoints": false,
 "useStandardizedQueries": true,
 "advancedQueryCapabilities": {
  "useStandardizedQueries": true,
  "supportsStatistics": false,
  "supportsOrderBy": false,
  "supportsDistinct": false,
  "supportsPagination": false
 },
 "spatialReference": {
  "wkid": 4326,
  "latestWkid": 4326
 }
}
