{
 "currentVersion": 10.61,
 "serviceDescription": "INSPIRE/FD_flood_risk_zones_belviz_erintett_lakossag",
 "name": "INSPIRE/FD_flood_risk_zones_belviz_erintett_lakossag",
 "description": "",
 "extent": {
  "xmin": 469740,
  "ymin": 44200,
  "xmax": 936360,
  "ymax": 347160,
  "spatialReference": {
   "wkid": 23700,
   "latestWkid": 23700
  }
 },
 "initialExtent": {
  "xmin": 469740,
  "ymin": 44200,
  "xmax": 936360,
  "ymax": 347160,
  "spatialReference": {
   "wkid": 23700,
   "latestWkid": 23700
  }
 },
 "fullExtent": {
  "xmin": 469740,
  "ymin": 44200,
  "xmax": 936360,
  "ymax": 347160,
  "spatialReference": {
   "wkid": 23700,
   "latestWkid": 23700
  }
 },
 "pixelSizeX": 20,
 "pixelSizeY": 20,
 "bandCount": 1,
 "pixelType": "S32",
 "minPixelSize": 0,
 "maxPixelSize": 0,
 "copyrightText": "",
 "serviceDataType": "esriImageServiceDataTypeThematic",
 "minValues": [
  532109
 ],
 "maxValues": [
  24082769
 ],
 "meanValues": [
  3360373.494938512
 ],
 "stdvValues": [
  1842832.5250891272
 ],
 "objectIdField": "",
 "fields": [],
 "capabilities": "Image,Metadata,Mensuration",
 "defaultMosaicMethod": "Center",
 "allowedMosaicMethods": "",
 "sortField": "",
 "sortValue": null,
 "mosaicOperator": "First",
 "defaultCompressionQuality": 75,
 "defaultResamplingMethod": "Bilinear",
 "maxImageHeight": 4100,
 "maxImageWidth": 15000,
 "allowRasterFunction": true,
 "rasterFunctionInfos": [
  {
   "name": "None",
   "description": "",
   "help": ""
  }
 ],
 "rasterTypeInfos": [
  {
   "name": "Raster Dataset",
   "description": "Supports all ArcGIS Raster Datasets",
   "help": ""
  }
 ],
 "mensurationCapabilities": "Basic",
 "hasHistograms": true,
 "hasColormap": false,
 "hasRasterAttributeTable": true,
 "minScale": 0,
 "maxScale": 0,
 "exportTilesAllowed": false,
 "hasMultidimensions": false,
 "supportsStatistics": false,
 "supportsAdvancedQueries": false,
 "editFieldsInfo": null,
 "ownershipBasedAccessControlForRasters": null,
 "allowComputeTiePoints": false,
 "useStandardizedQueries": true,
 "advancedQueryCapabilities": {
  "useStandardizedQueries": true,
  "supportsStatistics": false,
  "supportsOrderBy": false,
  "supportsDistinct": false,
  "supportsPagination": false
 },
 "spatialReference": {
  "wkid": 23700,
  "latestWkid": 23700
 }
}
