{
 "currentVersion": 10.61,
 "serviceDescription": "INSPIRE/FD_hazard_areas_belviz_vizmelyseg",
 "name": "INSPIRE/FD_hazard_areas_belviz_vizmelyseg",
 "description": "",
 "extent": {
  "xmin": 464983.2240000069,
  "ymin": 43771.280000004976,
  "xmax": 937383.2240000069,
  "ymax": 350171.280000005,
  "spatialReference": {
   "wkt": "PROJCS[\"GRS_67_IUGG_1967_Hotine_Oblique_Mercator_Azimuth_Center\",GEOGCS[\"GCS_GRS_67_IUGG_1967\",DATUM[\"D_unknown\",SPHEROID[\"GRS67\",6378160.0,298.247167427]],PRIMEM[\"Greenwich\",0.0],UNIT[\"Degree\",0.0174532925199433]],PROJECTION[\"Hotine_Oblique_Mercator_Azimuth_Center\"],PARAMETER[\"false_easting\",650000.0],PARAMETER[\"false_northing\",200000.0],PARAMETER[\"scale_factor\",0.99993],PARAMETER[\"azimuth\",90.0],PARAMETER[\"longitude_of_center\",19.04857177777778],PARAMETER[\"latitude_of_center\",47.14439372222222],UNIT[\"Meter\",1.0]]"
  }
 },
 "initialExtent": {
  "xmin": 464983.2240000069,
  "ymin": 43771.280000004976,
  "xmax": 937383.2240000069,
  "ymax": 350171.280000005,
  "spatialReference": {
   "wkt": "PROJCS[\"GRS_67_IUGG_1967_Hotine_Oblique_Mercator_Azimuth_Center\",GEOGCS[\"GCS_GRS_67_IUGG_1967\",DATUM[\"D_unknown\",SPHEROID[\"GRS67\",6378160.0,298.247167427]],PRIMEM[\"Greenwich\",0.0],UNIT[\"Degree\",0.0174532925199433]],PROJECTION[\"Hotine_Oblique_Mercator_Azimuth_Center\"],PARAMETER[\"false_easting\",650000.0],PARAMETER[\"false_northing\",200000.0],PARAMETER[\"scale_factor\",0.99993],PARAMETER[\"azimuth\",90.0],PARAMETER[\"longitude_of_center\",19.04857177777778],PARAMETER[\"latitude_of_center\",47.14439372222222],UNIT[\"Meter\",1.0]]"
  }
 },
 "fullExtent": {
  "xmin": 464983.2240000069,
  "ymin": 43771.280000004976,
  "xmax": 937383.2240000069,
  "ymax": 350171.280000005,
  "spatialReference": {
   "wkt": "PROJCS[\"GRS_67_IUGG_1967_Hotine_Oblique_Mercator_Azimuth_Center\",GEOGCS[\"GCS_GRS_67_IUGG_1967\",DATUM[\"D_unknown\",SPHEROID[\"GRS67\",6378160.0,298.247167427]],PRIMEM[\"Greenwich\",0.0],UNIT[\"Degree\",0.0174532925199433]],PROJECTION[\"Hotine_Oblique_Mercator_Azimuth_Center\"],PARAMETER[\"false_easting\",650000.0],PARAMETER[\"false_northing\",200000.0],PARAMETER[\"scale_factor\",0.99993],PARAMETER[\"azimuth\",90.0],PARAMETER[\"longitude_of_center\",19.04857177777778],PARAMETER[\"latitude_of_center\",47.14439372222222],UNIT[\"Meter\",1.0]]"
  }
 },
 "pixelSizeX": 50,
 "pixelSizeY": 50,
 "bandCount": 1,
 "pixelType": "F32",
 "minPixelSize": 0,
 "maxPixelSize": 0,
 "copyrightText": "",
 "serviceDataType": "esriImageServiceDataTypeGeneric",
 "minValues": [
  0
 ],
 "maxValues": [
  93.24247741699219
 ],
 "meanValues": [
  14.329634546759166
 ],
 "stdvValues": [
  13.610085353488529
 ],
 "objectIdField": "",
 "fields": [],
 "capabilities": "Image,Metadata,Mensuration",
 "defaultMosaicMethod": "Center",
 "allowedMosaicMethods": "",
 "sortField": "",
 "sortValue": null,
 "mosaicOperator": "First",
 "defaultCompressionQuality": 75,
 "defaultResamplingMethod": "Bilinear",
 "maxImageHeight": 4100,
 "maxImageWidth": 15000,
 "allowRasterFunction": true,
 "rasterFunctionInfos": [
  {
   "name": "None",
   "description": "",
   "help": ""
  }
 ],
 "rasterTypeInfos": [
  {
   "name": "Raster Dataset",
   "description": "Supports all ArcGIS Raster Datasets",
   "help": ""
  }
 ],
 "mensurationCapabilities": "Basic",
 "hasHistograms": true,
 "hasColormap": false,
 "hasRasterAttributeTable": false,
 "minScale": 0,
 "maxScale": 0,
 "exportTilesAllowed": false,
 "hasMultidimensions": false,
 "supportsStatistics": false,
 "supportsAdvancedQueries": false,
 "editFieldsInfo": null,
 "ownershipBasedAccessControlForRasters": null,
 "allowComputeTiePoints": false,
 "useStandardizedQueries": true,
 "advancedQueryCapabilities": {
  "useStandardizedQueries": true,
  "supportsStatistics": false,
  "supportsOrderBy": false,
  "supportsDistinct": false,
  "supportsPagination": false
 },
 "spatialReference": {
  "wkt": "PROJCS[\"GRS_67_IUGG_1967_Hotine_Oblique_Mercator_Azimuth_Center\",GEOGCS[\"GCS_GRS_67_IUGG_1967\",DATUM[\"D_unknown\",SPHEROID[\"GRS67\",6378160.0,298.247167427]],PRIMEM[\"Greenwich\",0.0],UNIT[\"Degree\",0.0174532925199433]],PROJECTION[\"Hotine_Oblique_Mercator_Azimuth_Center\"],PARAMETER[\"false_easting\",650000.0],PARAMETER[\"false_northing\",200000.0],PARAMETER[\"scale_factor\",0.99993],PARAMETER[\"azimuth\",90.0],PARAMETER[\"longitude_of_center\",19.04857177777778],PARAMETER[\"latitude_of_center\",47.14439372222222],UNIT[\"Meter\",1.0]]"
 }
}
