{
 "currentVersion": 10.61,
 "serviceDescription": "INSPIRE/FD_hazard_areas_medium_probability_scenario",
 "name": "INSPIRE/FD_hazard_areas_medium_probability_scenario",
 "description": "",
 "extent": {
  "xmin": 437312.5001220703,
  "ymin": 56647.50012207031,
  "xmax": 937492.5001220703,
  "ymax": 352607.5001220703,
  "spatialReference": {
   "wkid": 23700,
   "latestWkid": 23700
  }
 },
 "initialExtent": {
  "xmin": 437312.5001220703,
  "ymin": 56647.50012207031,
  "xmax": 937492.5001220703,
  "ymax": 352607.5001220703,
  "spatialReference": {
   "wkid": 23700,
   "latestWkid": 23700
  }
 },
 "fullExtent": {
  "xmin": 437312.5001220703,
  "ymin": 56647.50012207031,
  "xmax": 937492.5001220703,
  "ymax": 352607.5001220703,
  "spatialReference": {
   "wkid": 23700,
   "latestWkid": 23700
  }
 },
 "pixelSizeX": 20,
 "pixelSizeY": 20,
 "bandCount": 1,
 "pixelType": "F32",
 "minPixelSize": 0,
 "maxPixelSize": 0,
 "copyrightText": "",
 "serviceDataType": "esriImageServiceDataTypeGeneric",
 "minValues": [
  9.9945068359375E-4
 ],
 "maxValues": [
  18.767059326171875
 ],
 "meanValues": [
  1.7745453100741309
 ],
 "stdvValues": [
  1.369401791964594
 ],
 "objectIdField": "",
 "fields": [],
 "capabilities": "Image,Metadata,Mensuration",
 "defaultMosaicMethod": "Center",
 "allowedMosaicMethods": "",
 "sortField": "",
 "sortValue": null,
 "mosaicOperator": "First",
 "defaultCompressionQuality": 75,
 "defaultResamplingMethod": "Bilinear",
 "maxImageHeight": 4100,
 "maxImageWidth": 15000,
 "allowRasterFunction": true,
 "rasterFunctionInfos": [
  {
   "name": "None",
   "description": "",
   "help": ""
  }
 ],
 "rasterTypeInfos": [
  {
   "name": "Raster Dataset",
   "description": "Supports all ArcGIS Raster Datasets",
   "help": ""
  }
 ],
 "mensurationCapabilities": "Basic",
 "hasHistograms": true,
 "hasColormap": false,
 "hasRasterAttributeTable": false,
 "minScale": 0,
 "maxScale": 0,
 "exportTilesAllowed": false,
 "hasMultidimensions": false,
 "supportsStatistics": false,
 "supportsAdvancedQueries": false,
 "editFieldsInfo": null,
 "ownershipBasedAccessControlForRasters": null,
 "allowComputeTiePoints": false,
 "useStandardizedQueries": true,
 "advancedQueryCapabilities": {
  "useStandardizedQueries": true,
  "supportsStatistics": false,
  "supportsOrderBy": false,
  "supportsDistinct": false,
  "supportsPagination": false
 },
 "spatialReference": {
  "wkid": 23700,
  "latestWkid": 23700
 }
}
