{
 "currentVersion": 10.61,
 "serviceDescription": "Atlaszok/mo_belviz_500e_jpg",
 "name": "Raszter/Belvizi",
 "description": "Atlaszok/mo_belviz_500e_jpg",
 "extent": {
  "xmin": 1754300.6738756194,
  "ymin": 5702642.930537948,
  "xmax": 2568001.200518557,
  "ymax": 6236557.380507112,
  "spatialReference": {
   "wkid": 102100,
   "latestWkid": 3857
  }
 },
 "initialExtent": {
  "xmin": 1754300.6738756194,
  "ymin": 5702642.930537948,
  "xmax": 2568001.200518557,
  "ymax": 6236557.380507112,
  "spatialReference": {
   "wkid": 102100,
   "latestWkid": 3857
  }
 },
 "fullExtent": {
  "xmin": 1754300.6738756194,
  "ymin": 5702642.930537948,
  "xmax": 2568001.200518557,
  "ymax": 6236557.380507112,
  "spatialReference": {
   "wkid": 102100,
   "latestWkid": 3857
  }
 },
 "pixelSizeX": 21.292699899069408,
 "pixelSizeY": 21.29269989906932,
 "bandCount": 3,
 "pixelType": "U8",
 "minPixelSize": 0,
 "maxPixelSize": 0,
 "copyrightText": "",
 "serviceDataType": "esriImageServiceDataTypeRGB",
 "minValues": [
  0,
  14,
  0
 ],
 "maxValues": [
  255,
  255,
  255
 ],
 "meanValues": [
  229.27029611372467,
  230.28669881487022,
  223.21559589227877
 ],
 "stdvValues": [
  54.137092381334845,
  45.65459722612858,
  48.25502380662316
 ],
 "objectIdField": "",
 "fields": [],
 "capabilities": "Image,Metadata,Mensuration",
 "defaultMosaicMethod": "Center",
 "allowedMosaicMethods": "",
 "sortField": "",
 "sortValue": null,
 "mosaicOperator": "First",
 "defaultCompressionQuality": 75,
 "defaultResamplingMethod": "Bilinear",
 "maxImageHeight": 4100,
 "maxImageWidth": 15000,
 "allowRasterFunction": true,
 "rasterFunctionInfos": [
  {
   "name": "None",
   "description": "",
   "help": ""
  }
 ],
 "rasterTypeInfos": [
  {
   "name": "Raster Dataset",
   "description": "Supports all ArcGIS Raster Datasets",
   "help": ""
  }
 ],
 "mensurationCapabilities": "Basic",
 "hasHistograms": true,
 "hasColormap": false,
 "hasRasterAttributeTable": false,
 "minScale": 0,
 "maxScale": 0,
 "exportTilesAllowed": false,
 "hasMultidimensions": false,
 "supportsStatistics": false,
 "supportsAdvancedQueries": false,
 "editFieldsInfo": null,
 "ownershipBasedAccessControlForRasters": null,
 "allowComputeTiePoints": false,
 "useStandardizedQueries": true,
 "advancedQueryCapabilities": {
  "useStandardizedQueries": true,
  "supportsStatistics": false,
  "supportsOrderBy": false,
  "supportsDistinct": false,
  "supportsPagination": false
 },
 "spatialReference": {
  "wkid": 102100,
  "latestWkid": 3857
 }
}
