{
 "currentVersion": 10.61,
 "serviceDescription": "Raszter/Tisza_Hajozasi",
 "name": "Raszter/Tisza_Hajozasi",
 "description": "",
 "extent": {
  "xmin": 719995.1237581734,
  "ymin": 89123.2180025522,
  "xmax": 931965.7437816967,
  "ymax": 348060.51647410326,
  "spatialReference": {
   "wkt": "PROJCS[\"Hungarian_1972_Egyseges_Orszagos_Vetuleti\",GEOGCS[\"GCS_Hungarian_1972\",DATUM[\"D_Hungarian_1972\",SPHEROID[\"GRS_1967\",6378160.0,298.247167427]],PRIMEM[\"Greenwich\",0.0],UNIT[\"Degree\",0.0174532925199433]],PROJECTION[\"Hotine_Oblique_Mercator_Azimuth_Center\"],PARAMETER[\"False_Easting\",650000.0],PARAMETER[\"False_Northing\",200000.0],PARAMETER[\"Scale_Factor\",0.99993],PARAMETER[\"Azimuth\",90.0],PARAMETER[\"Longitude_Of_Center\",19.048571778],PARAMETER[\"Latitude_Of_Center\",47.14439372222],UNIT[\"Meter\",1.0]]"
  }
 },
 "initialExtent": {
  "xmin": 719995.1237581734,
  "ymin": 89123.2180025522,
  "xmax": 931965.7437816967,
  "ymax": 348060.51647410326,
  "spatialReference": {
   "wkt": "PROJCS[\"Hungarian_1972_Egyseges_Orszagos_Vetuleti\",GEOGCS[\"GCS_Hungarian_1972\",DATUM[\"D_Hungarian_1972\",SPHEROID[\"GRS_1967\",6378160.0,298.247167427]],PRIMEM[\"Greenwich\",0.0],UNIT[\"Degree\",0.0174532925199433]],PROJECTION[\"Hotine_Oblique_Mercator_Azimuth_Center\"],PARAMETER[\"False_Easting\",650000.0],PARAMETER[\"False_Northing\",200000.0],PARAMETER[\"Scale_Factor\",0.99993],PARAMETER[\"Azimuth\",90.0],PARAMETER[\"Longitude_Of_Center\",19.048571778],PARAMETER[\"Latitude_Of_Center\",47.14439372222],UNIT[\"Meter\",1.0]]"
  }
 },
 "fullExtent": {
  "xmin": 719995.1237581734,
  "ymin": 89123.2180025522,
  "xmax": 931965.7437816967,
  "ymax": 348060.51647410326,
  "spatialReference": {
   "wkt": "PROJCS[\"Hungarian_1972_Egyseges_Orszagos_Vetuleti\",GEOGCS[\"GCS_Hungarian_1972\",DATUM[\"D_Hungarian_1972\",SPHEROID[\"GRS_1967\",6378160.0,298.247167427]],PRIMEM[\"Greenwich\",0.0],UNIT[\"Degree\",0.0174532925199433]],PROJECTION[\"Hotine_Oblique_Mercator_Azimuth_Center\"],PARAMETER[\"False_Easting\",650000.0],PARAMETER[\"False_Northing\",200000.0],PARAMETER[\"Scale_Factor\",0.99993],PARAMETER[\"Azimuth\",90.0],PARAMETER[\"Longitude_Of_Center\",19.048571778],PARAMETER[\"Latitude_Of_Center\",47.14439372222],UNIT[\"Meter\",1.0]]"
  }
 },
 "pixelSizeX": 0.8466125612522146,
 "pixelSizeY": 0.8466125612522145,
 "bandCount": 3,
 "pixelType": "U8",
 "minPixelSize": 0,
 "maxPixelSize": 0,
 "copyrightText": "",
 "serviceDataType": "esriImageServiceDataTypeRGB",
 "minValues": [
  0,
  0,
  0
 ],
 "maxValues": [
  255,
  255,
  255
 ],
 "meanValues": [
  221.26079704834348,
  227.4710267620227,
  225.74344848500164
 ],
 "stdvValues": [
  66.28921945522775,
  60.75710132103583,
  61.645630113828005
 ],
 "objectIdField": "OBJECTID",
 "fields": [
  {
   "name": "OBJECTID",
   "type": "esriFieldTypeOID",
   "alias": "OBJECTID",
   "domain": null
  },
  {
   "name": "Shape",
   "type": "esriFieldTypeGeometry",
   "alias": "Shape",
   "domain": null
  },
  {
   "name": "Name",
   "type": "esriFieldTypeString",
   "alias": "Name",
   "domain": null,
   "length": 50
  },
  {
   "name": "MinPS",
   "type": "esriFieldTypeDouble",
   "alias": "MinPS",
   "domain": null
  },
  {
   "name": "MaxPS",
   "type": "esriFieldTypeDouble",
   "alias": "MaxPS",
   "domain": null
  },
  {
   "name": "LowPS",
   "type": "esriFieldTypeDouble",
   "alias": "LowPS",
   "domain": null
  },
  {
   "name": "HighPS",
   "type": "esriFieldTypeDouble",
   "alias": "HighPS",
   "domain": null
  },
  {
   "name": "Category",
   "type": "esriFieldTypeInteger",
   "alias": "Category",
   "domain": {
    "type": "codedValue",
    "name": "MosaicCatalogItemCategoryDomain",
    "description": "Catalog item categories.",
    "codedValues": [
     {
      "name": "Unknown",
      "code": 0
     },
     {
      "name": "Primary",
      "code": 1
     },
     {
      "name": "Overview",
      "code": 2
     },
     {
      "name": "Unprocessed Overview",
      "code": 3
     },
     {
      "name": "Partial Overview",
      "code": 4
     },
     {
      "name": "Uploaded",
      "code": 253
     },
     {
      "name": "Incomplete",
      "code": 254
     },
     {
      "name": "Custom",
      "code": 255
     }
    ],
    "mergePolicy": "esriMPTDefaultValue",
    "splitPolicy": "esriSPTDefaultValue"
   }
  },
  {
   "name": "Tag",
   "type": "esriFieldTypeString",
   "alias": "Tag",
   "domain": null,
   "length": 20
  },
  {
   "name": "GroupName",
   "type": "esriFieldTypeString",
   "alias": "GroupName",
   "domain": null,
   "length": 50
  },
  {
   "name": "ProductName",
   "type": "esriFieldTypeString",
   "alias": "ProductName",
   "domain": null,
   "length": 50
  },
  {
   "name": "CenterX",
   "type": "esriFieldTypeDouble",
   "alias": "CenterX",
   "domain": null
  },
  {
   "name": "CenterY",
   "type": "esriFieldTypeDouble",
   "alias": "CenterY",
   "domain": null
  },
  {
   "name": "ZOrder",
   "type": "esriFieldTypeInteger",
   "alias": "ZOrder",
   "domain": null
  },
  {
   "name": "Shape_Length",
   "type": "esriFieldTypeDouble",
   "alias": "Shape_Length",
   "domain": null
  },
  {
   "name": "Shape_Area",
   "type": "esriFieldTypeDouble",
   "alias": "Shape_Area",
   "domain": null
  }
 ],
 "capabilities": "Catalog,Mensuration,Image,Metadata",
 "defaultMosaicMethod": "Northwest",
 "allowedMosaicMethods": "NorthWest,Center,LockRaster,ByAttribute,Nadir,Viewpoint,Seamline,None",
 "sortField": "",
 "sortValue": null,
 "mosaicOperator": "First",
 "maxDownloadSizeLimit": 2048,
 "defaultCompressionQuality": 75,
 "defaultResamplingMethod": "Bilinear",
 "maxImageHeight": 4100,
 "maxImageWidth": 15000,
 "maxRecordCount": 1000,
 "maxDownloadImageCount": 20,
 "maxMosaicImageCount": 20,
 "allowRasterFunction": true,
 "rasterFunctionInfos": [
  {
   "name": "None",
   "description": "",
   "help": ""
  }
 ],
 "rasterTypeInfos": [
  {
   "name": "Raster Dataset",
   "description": "Supports all ArcGIS Raster Datasets",
   "help": ""
  }
 ],
 "mensurationCapabilities": "None,Basic",
 "hasHistograms": true,
 "hasColormap": false,
 "hasRasterAttributeTable": false,
 "minScale": 0,
 "maxScale": 0,
 "exportTilesAllowed": false,
 "hasMultidimensions": false,
 "supportsStatistics": true,
 "supportsAdvancedQueries": true,
 "editFieldsInfo": null,
 "ownershipBasedAccessControlForRasters": null,
 "allowComputeTiePoints": false,
 "useStandardizedQueries": true,
 "advancedQueryCapabilities": {
  "useStandardizedQueries": true,
  "supportsStatistics": true,
  "supportsOrderBy": true,
  "supportsDistinct": true,
  "supportsPagination": true
 },
 "spatialReference": {
  "wkt": "PROJCS[\"Hungarian_1972_Egyseges_Orszagos_Vetuleti\",GEOGCS[\"GCS_Hungarian_1972\",DATUM[\"D_Hungarian_1972\",SPHEROID[\"GRS_1967\",6378160.0,298.247167427]],PRIMEM[\"Greenwich\",0.0],UNIT[\"Degree\",0.0174532925199433]],PROJECTION[\"Hotine_Oblique_Mercator_Azimuth_Center\"],PARAMETER[\"False_Easting\",650000.0],PARAMETER[\"False_Northing\",200000.0],PARAMETER[\"Scale_Factor\",0.99993],PARAMETER[\"Azimuth\",90.0],PARAMETER[\"Longitude_Of_Center\",19.048571778],PARAMETER[\"Latitude_Of_Center\",47.14439372222],UNIT[\"Meter\",1.0]]"
 }
}
