{
 "currentVersion": 10.61,
 "serviceDescription": "Var/Aktualis_havi_atlag_melyseg",
 "name": "Var/Aktualis_havi_atlag_melyseg",
 "description": "",
 "extent": {
  "xmin": 426402.9962642044,
  "ymin": 43770.99556443488,
  "xmax": 937402.9962642044,
  "ymax": 362970.9955644349,
  "spatialReference": {
   "wkt": "PROJCS[\"HD_1972_Egyseges_Orszagos_Vetuleti\",GEOGCS[\"GCS_Hungarian_1972\",DATUM[\"D_Hungarian_1972\",SPHEROID[\"GRS_1967\",6378160.0,298.247167427]],PRIMEM[\"Greenwich\",0.0],UNIT[\"Degree\",0.0174532925199433]],PROJECTION[\"Hotine_Oblique_Mercator_Azimuth_Center\"],PARAMETER[\"False_Easting\",650000.0],PARAMETER[\"False_Northing\",200000.0],PARAMETER[\"Scale_Factor\",0.99993],PARAMETER[\"Azimuth\",90.0],PARAMETER[\"Longitude_Of_Center\",19.048571778],PARAMETER[\"Latitude_Of_Center\",47.14439372222],UNIT[\"Meter\",1.0]]"
  }
 },
 "initialExtent": {
  "xmin": 426402.9962642044,
  "ymin": 43770.99556443488,
  "xmax": 937402.9962642044,
  "ymax": 362970.9955644349,
  "spatialReference": {
   "wkt": "PROJCS[\"HD_1972_Egyseges_Orszagos_Vetuleti\",GEOGCS[\"GCS_Hungarian_1972\",DATUM[\"D_Hungarian_1972\",SPHEROID[\"GRS_1967\",6378160.0,298.247167427]],PRIMEM[\"Greenwich\",0.0],UNIT[\"Degree\",0.0174532925199433]],PROJECTION[\"Hotine_Oblique_Mercator_Azimuth_Center\"],PARAMETER[\"False_Easting\",650000.0],PARAMETER[\"False_Northing\",200000.0],PARAMETER[\"Scale_Factor\",0.99993],PARAMETER[\"Azimuth\",90.0],PARAMETER[\"Longitude_Of_Center\",19.048571778],PARAMETER[\"Latitude_Of_Center\",47.14439372222],UNIT[\"Meter\",1.0]]"
  }
 },
 "fullExtent": {
  "xmin": 426402.9962642044,
  "ymin": 43770.99556443488,
  "xmax": 937402.9962642044,
  "ymax": 362970.9955644349,
  "spatialReference": {
   "wkt": "PROJCS[\"HD_1972_Egyseges_Orszagos_Vetuleti\",GEOGCS[\"GCS_Hungarian_1972\",DATUM[\"D_Hungarian_1972\",SPHEROID[\"GRS_1967\",6378160.0,298.247167427]],PRIMEM[\"Greenwich\",0.0],UNIT[\"Degree\",0.0174532925199433]],PROJECTION[\"Hotine_Oblique_Mercator_Azimuth_Center\"],PARAMETER[\"False_Easting\",650000.0],PARAMETER[\"False_Northing\",200000.0],PARAMETER[\"Scale_Factor\",0.99993],PARAMETER[\"Azimuth\",90.0],PARAMETER[\"Longitude_Of_Center\",19.048571778],PARAMETER[\"Latitude_Of_Center\",47.14439372222],UNIT[\"Meter\",1.0]]"
  }
 },
 "pixelSizeX": 50,
 "pixelSizeY": 50,
 "bandCount": 1,
 "pixelType": "F32",
 "minPixelSize": 0,
 "maxPixelSize": 0,
 "copyrightText": "",
 "serviceDataType": "esriImageServiceDataTypeGeneric",
 "minValues": [
  0.7421088218688965
 ],
 "maxValues": [
  17.038299560546875
 ],
 "meanValues": [
  4.265329804521284
 ],
 "stdvValues": [
  0.8342854686712396
 ],
 "objectIdField": "",
 "fields": [],
 "capabilities": "Mensuration,Image,Metadata",
 "defaultMosaicMethod": "Center",
 "allowedMosaicMethods": "",
 "sortField": "",
 "sortValue": null,
 "mosaicOperator": "First",
 "defaultCompressionQuality": 75,
 "defaultResamplingMethod": "Bilinear",
 "maxImageHeight": 4100,
 "maxImageWidth": 15000,
 "allowRasterFunction": true,
 "rasterFunctionInfos": [
  {
   "name": "RaszterTalajvizkeszlet_m",
   "description": "A raster function template.",
   "help": ""
  },
  {
   "name": "None",
   "description": "",
   "help": ""
  }
 ],
 "rasterTypeInfos": [
  {
   "name": "Raster Dataset",
   "description": "Supports all ArcGIS Raster Datasets",
   "help": ""
  }
 ],
 "mensurationCapabilities": "Basic",
 "hasHistograms": true,
 "hasColormap": false,
 "hasRasterAttributeTable": false,
 "minScale": 0,
 "maxScale": 0,
 "exportTilesAllowed": false,
 "hasMultidimensions": false,
 "supportsStatistics": false,
 "supportsAdvancedQueries": false,
 "editFieldsInfo": null,
 "ownershipBasedAccessControlForRasters": null,
 "allowComputeTiePoints": false,
 "useStandardizedQueries": true,
 "advancedQueryCapabilities": {
  "useStandardizedQueries": true,
  "supportsStatistics": false,
  "supportsOrderBy": false,
  "supportsDistinct": false,
  "supportsPagination": false
 },
 "spatialReference": {
  "wkt": "PROJCS[\"HD_1972_Egyseges_Orszagos_Vetuleti\",GEOGCS[\"GCS_Hungarian_1972\",DATUM[\"D_Hungarian_1972\",SPHEROID[\"GRS_1967\",6378160.0,298.247167427]],PRIMEM[\"Greenwich\",0.0],UNIT[\"Degree\",0.0174532925199433]],PROJECTION[\"Hotine_Oblique_Mercator_Azimuth_Center\"],PARAMETER[\"False_Easting\",650000.0],PARAMETER[\"False_Northing\",200000.0],PARAMETER[\"Scale_Factor\",0.99993],PARAMETER[\"Azimuth\",90.0],PARAMETER[\"Longitude_Of_Center\",19.048571778],PARAMETER[\"Latitude_Of_Center\",47.14439372222],UNIT[\"Meter\",1.0]]"
 }
}
