View In:
ArcGIS JavaScript
ArcGIS Online Map Viewer
ArcGIS Earth
ArcMap
View Footprint In:
ArcGIS Online Map Viewer
Service Description: Flood hazard areas high probability scenario flood water height
Name: AKK/ArteriObl_HmaxGyakori
Description: Flood hazard areas high probability scenario flood water height
Single Fused Map Cache: false
Extent:
XMin: 16.530761345161245
YMin: 45.993630777505366
XMax: 22.939091178082577
YMax: 48.57495683057448
Spatial Reference: 4326
(4326)
Initial Extent:
XMin: 16.530761345161245
YMin: 45.993630777505366
XMax: 22.939091178082577
YMax: 48.57495683057448
Spatial Reference: 4326
(4326)
Full Extent:
XMin: 16.530761345161245
YMin: 45.993630777505366
XMax: 22.939091178082577
YMax: 48.57495683057448
Spatial Reference: 4326
(4326)
Pixel Size X: 2.2436558479522906E-4
Pixel Size Y: 2.2436558479522925E-4
Band Count: 1
Pixel Type: F32
RasterFunction Infos: {"rasterFunctionInfos": [{
"name": "None",
"description": "",
"help": ""
}]}
Mensuration Capabilities: Basic
Has Histograms: true
Has Colormap: false
Has Multi Dimensions : false
Rendering Rule:
Min Scale: 0
Max Scale: 0
Copyright Text:
Service Data Type: esriImageServiceDataTypeGeneric
Min Values: 0
Max Values: 188.180419921875
Mean Values: 1.547011261163075
Standard Deviation Values: 1.2823326861897608
Object ID Field:
Fields:
None
Default Mosaic Method: Center
Allowed Mosaic Methods:
SortField:
SortValue: null
Mosaic Operator: First
Default Compression Quality: 75
Default Resampling Method: Bilinear
Max Record Count: null
Max Image Height: 4100
Max Image Width: 15000
Max Download Image Count: null
Max Mosaic Image Count: null
Allow Raster Function: true
Allow Compute TiePoints: false
Supports Statistics: false
Supports Advanced Queries: false
Use StandardizedQueries: true
Raster Type Infos:
Name: Raster Dataset
Description: Supports all ArcGIS Raster Datasets
Help:
Has Raster Attribute Table: false
Edit Fields Info: null
Ownership Based AccessControl For Rasters: null
Child Resources:
Info
Histograms
Key Properties
Legend
MultiDimensionalInfo
rasterFunctionInfos
Supported Operations:
Export Image
Identify
Measure
Compute Histograms
Compute Statistics Histograms
Get Samples
Compute Class Statistics
Query Boundary