View In:
ArcGIS JavaScript
ArcGIS Online Map Viewer
ArcGIS Earth
ArcMap
View Footprint In:
ArcGIS Online Map Viewer
Service Description: AKK/ArteriObl_HmaxKozepes_EOV
Name: AKK/ArteriObl_HmaxKozepes_EOV
Description:
Single Fused Map Cache: false
Extent:
XMin: 16.484555142818746
YMin: 45.77514530643813
XMax: 22.939104286207893
YMax: 48.575676535852175
Spatial Reference: 4326
(4326)
Initial Extent:
XMin: 16.484555142818746
YMin: 45.77514530643813
XMax: 22.939104286207893
YMax: 48.575676535852175
Spatial Reference: 4326
(4326)
Full Extent:
XMin: 16.484555142818746
YMin: 45.77514530643813
XMax: 22.939104286207893
YMax: 48.575676535852175
Spatial Reference: 4326
(4326)
Pixel Size X: 2.24365584795229E-4
Pixel Size Y: 2.2436558479522898E-4
Band Count: 1
Pixel Type: F32
RasterFunction Infos: {"rasterFunctionInfos": [{
"name": "None",
"description": "",
"help": ""
}]}
Mensuration Capabilities: Basic
Has Histograms: true
Has Colormap: false
Has Multi Dimensions : false
Rendering Rule:
Min Scale: 0
Max Scale: 0
Copyright Text:
Service Data Type: esriImageServiceDataTypeGeneric
Min Values: 0
Max Values: 167.8729248046875
Mean Values: 1.649422598427831
Standard Deviation Values: 1.313119513547324
Object ID Field:
Fields:
None
Default Mosaic Method: Center
Allowed Mosaic Methods:
SortField:
SortValue: null
Mosaic Operator: First
Default Compression Quality: 75
Default Resampling Method: Bilinear
Max Record Count: null
Max Image Height: 4100
Max Image Width: 15000
Max Download Image Count: null
Max Mosaic Image Count: null
Allow Raster Function: true
Allow Compute TiePoints: false
Supports Statistics: false
Supports Advanced Queries: false
Use StandardizedQueries: true
Raster Type Infos:
Name: Raster Dataset
Description: Supports all ArcGIS Raster Datasets
Help:
Has Raster Attribute Table: false
Edit Fields Info: null
Ownership Based AccessControl For Rasters: null
Child Resources:
Info
Histograms
Key Properties
Legend
MultiDimensionalInfo
rasterFunctionInfos
Supported Operations:
Export Image
Identify
Measure
Compute Histograms
Compute Statistics Histograms
Get Samples
Compute Class Statistics
Query Boundary