View In:
ArcGIS JavaScript
ArcGIS Online Map Viewer
ArcGIS Earth
ArcMap
View Footprint In:
ArcGIS Online Map Viewer
Service Description: AKK/ArteriObl_HmaxRitka_EOV
Name: AKK/ArteriObl_HmaxRitka_EOV
Description:
Single Fused Map Cache: false
Extent:
XMin: 16.065008604180083
YMin: 45.59477269900418
XMax: 22.939570122305895
YMax: 48.58287355730704
Spatial Reference: 4326
(4326)
Initial Extent:
XMin: 16.065008604180083
YMin: 45.59477269900418
XMax: 22.939570122305895
YMax: 48.58287355730704
Spatial Reference: 4326
(4326)
Full Extent:
XMin: 16.065008604180083
YMin: 45.59477269900418
XMax: 22.939570122305895
YMax: 48.58287355730704
Spatial Reference: 4326
(4326)
Pixel Size X: 2.2436558479522887E-4
Pixel Size Y: 2.2436558479522881E-4
Band Count: 1
Pixel Type: F32
RasterFunction Infos: {"rasterFunctionInfos": [{
"name": "None",
"description": "",
"help": ""
}]}
Mensuration Capabilities: Basic
Has Histograms: true
Has Colormap: false
Has Multi Dimensions : false
Rendering Rule:
Min Scale: 0
Max Scale: 0
Copyright Text:
Service Data Type: esriImageServiceDataTypeGeneric
Min Values: 9.9945068359375E-4
Max Values: 346.5788879394531
Mean Values: 1.9861467103158368
Standard Deviation Values: 1.4397522607138187
Object ID Field:
Fields:
None
Default Mosaic Method: Center
Allowed Mosaic Methods:
SortField:
SortValue: null
Mosaic Operator: First
Default Compression Quality: 75
Default Resampling Method: Bilinear
Max Record Count: null
Max Image Height: 4100
Max Image Width: 15000
Max Download Image Count: null
Max Mosaic Image Count: null
Allow Raster Function: true
Allow Compute TiePoints: false
Supports Statistics: false
Supports Advanced Queries: false
Use StandardizedQueries: true
Raster Type Infos:
Name: Raster Dataset
Description: Supports all ArcGIS Raster Datasets
Help:
Has Raster Attribute Table: false
Edit Fields Info: null
Ownership Based AccessControl For Rasters: null
Child Resources:
Info
Histograms
Key Properties
Legend
MultiDimensionalInfo
rasterFunctionInfos
Supported Operations:
Export Image
Identify
Measure
Compute Histograms
Compute Statistics Histograms
Get Samples
Compute Class Statistics
Query Boundary