View In:
ArcGIS JavaScript
ArcGIS Online Map Viewer
ArcGIS Earth
ArcMap
View Footprint In:
ArcGIS Online Map Viewer
Service Description: AKK/Kisviz_HmaxGyakori
Name: AKK/Kisviz_HmaxGyakori
Description:
Single Fused Map Cache: false
Extent:
XMin: 16.128467291210978
YMin: 45.677851377638795
XMax: 21.682861708401663
YMax: 48.65159283851476
Spatial Reference: 4326
(4326)
Initial Extent:
XMin: 16.128467291210978
YMin: 45.677851377638795
XMax: 21.682861708401663
YMax: 48.65159283851476
Spatial Reference: 4326
(4326)
Full Extent:
XMin: 16.128467291210978
YMin: 45.677851377638795
XMax: 21.682861708401663
YMax: 48.65159283851476
Spatial Reference: 4326
(4326)
Pixel Size X: 2.2436558479522887E-4
Pixel Size Y: 2.2436558479522887E-4
Band Count: 1
Pixel Type: F32
RasterFunction Infos: {"rasterFunctionInfos": [{
"name": "None",
"description": "",
"help": ""
}]}
Mensuration Capabilities: Basic
Has Histograms: true
Has Colormap: false
Has Multi Dimensions : false
Rendering Rule:
Min Scale: 0
Max Scale: 0
Copyright Text:
Service Data Type: esriImageServiceDataTypeGeneric
Min Values: 4.3116238357399084E-10
Max Values: 21.435501098632812
Mean Values: 0.7606541060136646
Standard Deviation Values: 0.7361333823720665
Object ID Field:
Fields:
None
Default Mosaic Method: Center
Allowed Mosaic Methods:
SortField:
SortValue: null
Mosaic Operator: First
Default Compression Quality: 75
Default Resampling Method: Bilinear
Max Record Count: null
Max Image Height: 4100
Max Image Width: 15000
Max Download Image Count: null
Max Mosaic Image Count: null
Allow Raster Function: true
Allow Compute TiePoints: false
Supports Statistics: false
Supports Advanced Queries: false
Use StandardizedQueries: true
Raster Type Infos:
Name: Raster Dataset
Description: Supports all ArcGIS Raster Datasets
Help:
Has Raster Attribute Table: false
Edit Fields Info: null
Ownership Based AccessControl For Rasters: null
Child Resources:
Info
Histograms
Key Properties
Legend
MultiDimensionalInfo
rasterFunctionInfos
Supported Operations:
Export Image
Identify
Measure
Compute Histograms
Compute Statistics Histograms
Get Samples
Compute Class Statistics
Query Boundary