View In:
ArcGIS JavaScript
ArcGIS Online Map Viewer
ArcGIS Earth
ArcMap
View Footprint In:
ArcGIS Online Map Viewer
Service Description: AKK/Kisviz_LakosnepessegGyakori
Name: AKK/Kisviz_LakosnepessegGyakori
Description:
Single Fused Map Cache: false
Extent:
XMin: 16.12932840053571
YMin: 45.67886233570574
XMax: 21.67721621576733
YMax: 48.647219022546615
Spatial Reference: 4326
(4326)
Initial Extent:
XMin: 16.12932840053571
YMin: 45.67886233570574
XMax: 21.67721621576733
YMax: 48.647219022546615
Spatial Reference: 4326
(4326)
Full Extent:
XMin: 16.12932840053571
YMin: 45.67886233570574
XMax: 21.67721621576733
YMax: 48.647219022546615
Spatial Reference: 4326
(4326)
Pixel Size X: 2.243655847952288E-4
Pixel Size Y: 2.2436558479522884E-4
Band Count: 1
Pixel Type: S32
RasterFunction Infos: {"rasterFunctionInfos": [{
"name": "None",
"description": "",
"help": ""
}]}
Mensuration Capabilities: Basic
Has Histograms: true
Has Colormap: false
Has Multi Dimensions : false
Rendering Rule:
Min Scale: 0
Max Scale: 0
Copyright Text:
Service Data Type: esriImageServiceDataTypeThematic
Min Values: 859154
Max Values: 18623820
Mean Values: 4553358.024633822
Standard Deviation Values: 2755599.971908702
Object ID Field:
Fields:
None
Default Mosaic Method: Center
Allowed Mosaic Methods:
SortField:
SortValue: null
Mosaic Operator: First
Default Compression Quality: 75
Default Resampling Method: Bilinear
Max Record Count: null
Max Image Height: 4100
Max Image Width: 15000
Max Download Image Count: null
Max Mosaic Image Count: null
Allow Raster Function: true
Allow Compute TiePoints: false
Supports Statistics: false
Supports Advanced Queries: false
Use StandardizedQueries: true
Raster Type Infos:
Name: Raster Dataset
Description: Supports all ArcGIS Raster Datasets
Help:
Has Raster Attribute Table: true
Edit Fields Info: null
Ownership Based AccessControl For Rasters: null
Child Resources:
Info
Raster Attribute Table
Histograms
Key Properties
Legend
MultiDimensionalInfo
rasterFunctionInfos
Supported Operations:
Export Image
Identify
Measure
Compute Histograms
Compute Statistics Histograms
Get Samples
Compute Class Statistics
Query Boundary