View In:
ArcGIS JavaScript
ArcGIS Online Map Viewer
ArcGIS Earth
ArcMap
View Footprint In:
ArcGIS Online Map Viewer
Service Description: AKK/Kisviz_VagyonRitka
Name: AKK/Kisviz_VagyonRitka
Description:
Single Fused Map Cache: false
Extent:
XMin: 16.129138712133
YMin: 45.679046568117954
XMax: 21.677475258534216
YMax: 48.649198179637196
Spatial Reference: 4326
(4326)
Initial Extent:
XMin: 16.129138712133
YMin: 45.679046568117954
XMax: 21.677475258534216
YMax: 48.649198179637196
Spatial Reference: 4326
(4326)
Full Extent:
XMin: 16.129138712133
YMin: 45.679046568117954
XMax: 21.677475258534216
YMax: 48.649198179637196
Spatial Reference: 4326
(4326)
Pixel Size X: 2.2436558479522895E-4
Pixel Size Y: 2.2436558479522903E-4
Band Count: 1
Pixel Type: S16
RasterFunction Infos: {"rasterFunctionInfos": [{
"name": "None",
"description": "",
"help": ""
}]}
Mensuration Capabilities: Basic
Has Histograms: true
Has Colormap: false
Has Multi Dimensions : false
Rendering Rule:
Min Scale: 0
Max Scale: 0
Copyright Text:
Service Data Type: esriImageServiceDataTypeThematic
Min Values: 0
Max Values: 9110
Mean Values: 6236.119650265392
Standard Deviation Values: 1523.9476164942832
Object ID Field:
Fields:
None
Default Mosaic Method: Center
Allowed Mosaic Methods:
SortField:
SortValue: null
Mosaic Operator: First
Default Compression Quality: 75
Default Resampling Method: Bilinear
Max Record Count: null
Max Image Height: 4100
Max Image Width: 15000
Max Download Image Count: null
Max Mosaic Image Count: null
Allow Raster Function: true
Allow Compute TiePoints: false
Supports Statistics: false
Supports Advanced Queries: false
Use StandardizedQueries: true
Raster Type Infos:
Name: Raster Dataset
Description: Supports all ArcGIS Raster Datasets
Help:
Has Raster Attribute Table: true
Edit Fields Info: null
Ownership Based AccessControl For Rasters: null
Child Resources:
Info
Raster Attribute Table
Histograms
Key Properties
Legend
MultiDimensionalInfo
rasterFunctionInfos
Supported Operations:
Export Image
Identify
Measure
Compute Histograms
Compute Statistics Histograms
Get Samples
Compute Class Statistics
Query Boundary