View In:
ArcGIS JavaScript
ArcGIS Online Map Viewer
ArcGIS Earth
ArcMap
View Footprint In:
ArcGIS Online Map Viewer
Service Description: INSPIRE/FD_flood_risk_zones_belviz_erintett_gazdasagi_tevekenyseg
Name: INSPIRE/FD_flood_risk_zones_belviz_erintett_gazdasagi_tevekenyseg
Description:
Single Fused Map Cache: false
Extent:
XMin: 469740
YMin: 44200
XMax: 936360
YMax: 347160
Spatial Reference: PROJCS["Hungarian_1972_Egyseges_Orszagos_Vetuleti",GEOGCS["GCS_Hungarian_1972",DATUM["D_Hungarian_1972",SPHEROID["GRS_1967",6378160.0,298.247167427]],PRIMEM["Greenwich",0.0],UNIT["Degree",0.0174532925199433]],PROJECTION["Hotine_Oblique_Mercator_Azimuth_Center"],PARAMETER["false_easting",650000.0],PARAMETER["false_northing",200000.0],PARAMETER["scale_factor",0.99993],PARAMETER["azimuth",90.0],PARAMETER["longitude_of_center",19.048571778],PARAMETER["latitude_of_center",47.14439372222],UNIT["Meter",1.0]]
Initial Extent:
XMin: 469740
YMin: 44200
XMax: 936360
YMax: 347160
Spatial Reference: PROJCS["Hungarian_1972_Egyseges_Orszagos_Vetuleti",GEOGCS["GCS_Hungarian_1972",DATUM["D_Hungarian_1972",SPHEROID["GRS_1967",6378160.0,298.247167427]],PRIMEM["Greenwich",0.0],UNIT["Degree",0.0174532925199433]],PROJECTION["Hotine_Oblique_Mercator_Azimuth_Center"],PARAMETER["false_easting",650000.0],PARAMETER["false_northing",200000.0],PARAMETER["scale_factor",0.99993],PARAMETER["azimuth",90.0],PARAMETER["longitude_of_center",19.048571778],PARAMETER["latitude_of_center",47.14439372222],UNIT["Meter",1.0]]
Full Extent:
XMin: 469740
YMin: 44200
XMax: 936360
YMax: 347160
Spatial Reference: PROJCS["Hungarian_1972_Egyseges_Orszagos_Vetuleti",GEOGCS["GCS_Hungarian_1972",DATUM["D_Hungarian_1972",SPHEROID["GRS_1967",6378160.0,298.247167427]],PRIMEM["Greenwich",0.0],UNIT["Degree",0.0174532925199433]],PROJECTION["Hotine_Oblique_Mercator_Azimuth_Center"],PARAMETER["false_easting",650000.0],PARAMETER["false_northing",200000.0],PARAMETER["scale_factor",0.99993],PARAMETER["azimuth",90.0],PARAMETER["longitude_of_center",19.048571778],PARAMETER["latitude_of_center",47.14439372222],UNIT["Meter",1.0]]
Pixel Size X: 20.0
Pixel Size Y: 20.0
Band Count: 1
Pixel Type: S16
RasterFunction Infos: {"rasterFunctionInfos": [{
"name": "None",
"description": "",
"help": ""
}]}
Mensuration Capabilities: Basic
Has Histograms: true
Has Colormap: false
Has Multi Dimensions : false
Rendering Rule:
Min Scale: 0
Max Scale: 0
Copyright Text:
Service Data Type: esriImageServiceDataTypeThematic
Min Values: 0
Max Values: 9110
Mean Values: 5566.659991058948
Standard Deviation Values: 1258.0548502399956
Object ID Field:
Fields:
None
Default Mosaic Method: Center
Allowed Mosaic Methods:
SortField:
SortValue: null
Mosaic Operator: First
Default Compression Quality: 75
Default Resampling Method: Bilinear
Max Record Count: null
Max Image Height: 4100
Max Image Width: 15000
Max Download Image Count: null
Max Mosaic Image Count: null
Allow Raster Function: true
Allow Compute TiePoints: false
Supports Statistics: false
Supports Advanced Queries: false
Use StandardizedQueries: true
Raster Type Infos:
Name: Raster Dataset
Description: Supports all ArcGIS Raster Datasets
Help:
Has Raster Attribute Table: true
Edit Fields Info: null
Ownership Based AccessControl For Rasters: null
Child Resources:
Info
Raster Attribute Table
Histograms
Key Properties
Legend
MultiDimensionalInfo
rasterFunctionInfos
Supported Operations:
Export Image
Identify
Measure
Compute Histograms
Compute Statistics Histograms
Get Samples
Compute Class Statistics
Query Boundary