View In:
ArcGIS JavaScript
ArcGIS Online Map Viewer
ArcGIS Earth
ArcMap
View Footprint In:
ArcGIS Online Map Viewer
Service Description: INSPIRE/FD_hazard_areas_low_probability_scenario_kisviz_vizmelyseg
Name: INSPIRE/FD_hazard_areas_low_probability_scenario_kisviz_vizmelyseg
Description:
Single Fused Map Cache: false
Extent:
XMin: 442266.46073200926
YMin: 50128.78633690666
XMax: 844446.4607320093
YMax: 360358.78633690666
Spatial Reference: 23700
(23700)
Initial Extent:
XMin: 442266.46073200926
YMin: 50128.78633690666
XMax: 844446.4607320093
YMax: 360358.78633690666
Spatial Reference: 23700
(23700)
Full Extent:
XMin: 442266.46073200926
YMin: 50128.78633690666
XMax: 844446.4607320093
YMax: 360358.78633690666
Spatial Reference: 23700
(23700)
Pixel Size X: 10.0
Pixel Size Y: 10.0
Band Count: 1
Pixel Type: F32
RasterFunction Infos: {"rasterFunctionInfos": [{
"name": "None",
"description": "",
"help": ""
}]}
Mensuration Capabilities: Basic
Has Histograms: true
Has Colormap: false
Has Multi Dimensions : false
Rendering Rule:
Min Scale: 0
Max Scale: 0
Copyright Text:
Service Data Type: esriImageServiceDataTypeGeneric
Min Values: 0
Max Values: 17.625625610351562
Mean Values: 0.49332301441423637
Standard Deviation Values: 0.540622181101903
Object ID Field:
Fields:
None
Default Mosaic Method: Center
Allowed Mosaic Methods:
SortField:
SortValue: null
Mosaic Operator: First
Default Compression Quality: 75
Default Resampling Method: Bilinear
Max Record Count: null
Max Image Height: 4100
Max Image Width: 15000
Max Download Image Count: null
Max Mosaic Image Count: null
Allow Raster Function: true
Allow Compute TiePoints: false
Supports Statistics: false
Supports Advanced Queries: false
Use StandardizedQueries: true
Raster Type Infos:
Name: Raster Dataset
Description: Supports all ArcGIS Raster Datasets
Help:
Has Raster Attribute Table: false
Edit Fields Info: null
Ownership Based AccessControl For Rasters: null
Child Resources:
Info
Histograms
Key Properties
Legend
MultiDimensionalInfo
rasterFunctionInfos
Supported Operations:
Export Image
Identify
Measure
Compute Histograms
Compute Statistics Histograms
Get Samples
Compute Class Statistics
Query Boundary