View In:
ArcGIS JavaScript
ArcGIS Online Map Viewer
ArcGIS Earth
ArcMap
View Footprint In:
ArcGIS Online Map Viewer
Service Description: Atlaszok/mo_arviz_500e_jpg
Name: Raszter/Arvizi
Description: Atlaszok/mo_arviz_500e_jpg
Single Fused Map Cache: false
Extent:
XMin: 1757008.979726607
YMin: 5702813.2721812595
XMax: 2570709.5063195284
YMax: 6236557.380518424
Spatial Reference: 102100
(3857)
Initial Extent:
XMin: 1757008.979726607
YMin: 5702813.2721812595
XMax: 2570709.5063195284
YMax: 6236557.380518424
Spatial Reference: 102100
(3857)
Full Extent:
XMin: 1757008.979726607
YMin: 5702813.2721812595
XMax: 2570709.5063195284
YMax: 6236557.380518424
Spatial Reference: 102100
(3857)
Pixel Size X: 21.292699897760603
Pixel Size Y: 21.292699897760595
Band Count: 3
Pixel Type: U8
RasterFunction Infos: {"rasterFunctionInfos": [{
"name": "None",
"description": "",
"help": ""
}]}
Mensuration Capabilities: Basic
Has Histograms: true
Has Colormap: false
Has Multi Dimensions : false
Rendering Rule:
Min Scale: 0
Max Scale: 0
Copyright Text:
Service Data Type: esriImageServiceDataTypeRGB
Min Values: 0, 5, 0
Max Values: 255, 255, 255
Mean Values: 230.9779375327181, 230.89157613808396, 223.73966237699477
Standard Deviation Values: 53.6211014963146, 46.58487275762988, 48.09776609344109
Object ID Field:
Fields:
None
Default Mosaic Method: Center
Allowed Mosaic Methods:
SortField:
SortValue: null
Mosaic Operator: First
Default Compression Quality: 75
Default Resampling Method: Bilinear
Max Record Count: null
Max Image Height: 4100
Max Image Width: 15000
Max Download Image Count: null
Max Mosaic Image Count: null
Allow Raster Function: true
Allow Compute TiePoints: false
Supports Statistics: false
Supports Advanced Queries: false
Use StandardizedQueries: true
Raster Type Infos:
Name: Raster Dataset
Description: Supports all ArcGIS Raster Datasets
Help:
Has Raster Attribute Table: false
Edit Fields Info: null
Ownership Based AccessControl For Rasters: null
Child Resources:
Info
Histograms
Key Properties
Legend
MultiDimensionalInfo
rasterFunctionInfos
Supported Operations:
Export Image
Identify
Measure
Compute Histograms
Compute Statistics Histograms
Get Samples
Compute Class Statistics
Query Boundary