View In:
ArcGIS JavaScript
ArcGIS Online Map Viewer
ArcGIS Earth
ArcMap
View Footprint In:
ArcGIS Online Map Viewer
Service Description: Var/Diff_30ev_last_week
Name: Var/Diff_30ev_last_week
Description:
Single Fused Map Cache: false
Extent:
XMin: 1711671.6622865533
YMin: 5690591.31194865
XMax: 2604471.6622865535
YMax: 6248841.31194865
Spatial Reference: 102100
(3857)
Initial Extent:
XMin: 1711671.6622865533
YMin: 5690591.31194865
XMax: 2604471.6622865535
YMax: 6248841.31194865
Spatial Reference: 102100
(3857)
Full Extent:
XMin: 1711671.6622865533
YMin: 5690591.31194865
XMax: 2604471.6622865535
YMax: 6248841.31194865
Spatial Reference: 102100
(3857)
Pixel Size X: 50.000000000000014
Pixel Size Y: 50.0
Band Count: 1
Pixel Type: F32
RasterFunction Infos: {"rasterFunctionInfos": [
{
"name": "Diff_30ev_heti_atlag",
"description": "A raster function template.",
"help": ""
},
{
"name": "None",
"description": "",
"help": ""
}
]}
Mensuration Capabilities: Basic
Has Histograms: true
Has Colormap: false
Has Multi Dimensions : false
Rendering Rule:
Min Scale: 0
Max Scale: 0
Copyright Text:
Service Data Type: esriImageServiceDataTypeGeneric
Min Values: -473.9918212890625
Max Values: 52.998592376708984
Mean Values: -113.4235781748523
Standard Deviation Values: 50.861740128906796
Object ID Field:
Fields:
None
Default Mosaic Method: Center
Allowed Mosaic Methods:
SortField:
SortValue: null
Mosaic Operator: First
Default Compression Quality: 75
Default Resampling Method: Bilinear
Max Record Count: null
Max Image Height: 4100
Max Image Width: 15000
Max Download Image Count: null
Max Mosaic Image Count: null
Allow Raster Function: true
Allow Compute TiePoints: false
Supports Statistics: false
Supports Advanced Queries: false
Use StandardizedQueries: true
Raster Type Infos:
Name: Raster Dataset
Description: Supports all ArcGIS Raster Datasets
Help:
Has Raster Attribute Table: false
Edit Fields Info: null
Ownership Based AccessControl For Rasters: null
Child Resources:
Info
Histograms
Key Properties
Legend
MultiDimensionalInfo
rasterFunctionInfos
Supported Operations:
Export Image
Identify
Measure
Compute Histograms
Compute Statistics Histograms
Get Samples
Compute Class Statistics
Query Boundary