View In:
ArcGIS JavaScript
ArcGIS Online Map Viewer
ArcGIS Earth
ArcMap
View Footprint In:
ArcGIS Online Map Viewer
Service Description: Var/Minus_feku_2025_04_volume
Name: Var/Minus_feku_2025_04_volume
Description:
Single Fused Map Cache: false
Extent:
XMin: 1783069.345610267
YMin: 5728857.934723014
XMax: 2553769.345610267
YMax: 6208907.934723014
Spatial Reference: 102100
(3857)
Initial Extent:
XMin: 1783069.345610267
YMin: 5728857.934723014
XMax: 2553769.345610267
YMax: 6208907.934723014
Spatial Reference: 102100
(3857)
Full Extent:
XMin: 1783069.345610267
YMin: 5728857.934723014
XMax: 2553769.345610267
YMax: 6208907.934723014
Spatial Reference: 102100
(3857)
Pixel Size X: 50.0
Pixel Size Y: 50.0
Band Count: 1
Pixel Type: F32
RasterFunction Infos: {"rasterFunctionInfos": [
{
"name": "RaszterTalajvizkeszlet",
"description": "A raster function template.",
"help": ""
},
{
"name": "None",
"description": "",
"help": ""
}
]}
Mensuration Capabilities: Basic
Has Histograms: true
Has Colormap: false
Has Multi Dimensions : false
Rendering Rule:
Min Scale: 0
Max Scale: 0
Copyright Text:
Service Data Type: esriImageServiceDataTypeGeneric
Min Values: -1.2173576354980469
Max Values: 14.127631187438965
Mean Values: 2.531592188441661
Standard Deviation Values: 1.4822309936785454
Object ID Field:
Fields:
None
Default Mosaic Method: Center
Allowed Mosaic Methods:
SortField:
SortValue: null
Mosaic Operator: First
Default Compression Quality: 75
Default Resampling Method: Bilinear
Max Record Count: null
Max Image Height: 4100
Max Image Width: 15000
Max Download Image Count: null
Max Mosaic Image Count: null
Allow Raster Function: true
Allow Compute TiePoints: false
Supports Statistics: false
Supports Advanced Queries: false
Use StandardizedQueries: true
Raster Type Infos:
Name: Raster Dataset
Description: Supports all ArcGIS Raster Datasets
Help:
Has Raster Attribute Table: false
Edit Fields Info: null
Ownership Based AccessControl For Rasters: null
Child Resources:
Info
Histograms
Key Properties
Legend
MultiDimensionalInfo
rasterFunctionInfos
Supported Operations:
Export Image
Identify
Measure
Compute Histograms
Compute Statistics Histograms
Get Samples
Compute Class Statistics
Query Boundary