View In:
ArcGIS JavaScript
ArcGIS Online Map Viewer
ArcGIS Earth
ArcMap
View Footprint In:
ArcGIS Online Map Viewer
Service Description: INSPIRE/FD_flood_risk_zones_belviz_erintett_lakossag
Name: INSPIRE/FD_flood_risk_zones_belviz_erintett_lakossag
Description:
Single Fused Map Cache: false
Extent:
XMin: 469740
YMin: 44200
XMax: 936360
YMax: 347160
Spatial Reference: 23700
(23700)
Initial Extent:
XMin: 469740
YMin: 44200
XMax: 936360
YMax: 347160
Spatial Reference: 23700
(23700)
Full Extent:
XMin: 469740
YMin: 44200
XMax: 936360
YMax: 347160
Spatial Reference: 23700
(23700)
Pixel Size X: 20.0
Pixel Size Y: 20.0
Band Count: 1
Pixel Type: S32
RasterFunction Infos: {"rasterFunctionInfos": [{
"name": "None",
"description": "",
"help": ""
}]}
Mensuration Capabilities: Basic
Has Histograms: true
Has Colormap: false
Has Multi Dimensions : false
Rendering Rule:
Min Scale: 0
Max Scale: 0
Copyright Text:
Service Data Type: esriImageServiceDataTypeThematic
Min Values: 532109
Max Values: 24082769
Mean Values: 3360373.494938512
Standard Deviation Values: 1842832.5250891272
Object ID Field:
Fields:
None
Default Mosaic Method: Center
Allowed Mosaic Methods:
SortField:
SortValue: null
Mosaic Operator: First
Default Compression Quality: 75
Default Resampling Method: Bilinear
Max Record Count: null
Max Image Height: 4100
Max Image Width: 15000
Max Download Image Count: null
Max Mosaic Image Count: null
Allow Raster Function: true
Allow Compute TiePoints: false
Supports Statistics: false
Supports Advanced Queries: false
Use StandardizedQueries: true
Raster Type Infos:
Name: Raster Dataset
Description: Supports all ArcGIS Raster Datasets
Help:
Has Raster Attribute Table: true
Edit Fields Info: null
Ownership Based AccessControl For Rasters: null
Child Resources:
Info
Raster Attribute Table
Histograms
Key Properties
Legend
MultiDimensionalInfo
rasterFunctionInfos
Supported Operations:
Export Image
Identify
Measure
Compute Histograms
Compute Statistics Histograms
Get Samples
Compute Class Statistics
Query Boundary