View In:
ArcGIS JavaScript
ArcGIS Online Map Viewer
ArcGIS Earth
ArcMap
View Footprint In:
ArcGIS Online Map Viewer
Service Description: INSPIRE/FD_hazard_areas_belviz_vizmelyseg
Name: INSPIRE/FD_hazard_areas_belviz_vizmelyseg
Description:
Single Fused Map Cache: false
Extent:
XMin: 464983.2240000069
YMin: 43771.280000004976
XMax: 937383.2240000069
YMax: 350171.280000005
Spatial Reference: PROJCS["GRS_67_IUGG_1967_Hotine_Oblique_Mercator_Azimuth_Center",GEOGCS["GCS_GRS_67_IUGG_1967",DATUM["D_unknown",SPHEROID["GRS67",6378160.0,298.247167427]],PRIMEM["Greenwich",0.0],UNIT["Degree",0.0174532925199433]],PROJECTION["Hotine_Oblique_Mercator_Azimuth_Center"],PARAMETER["false_easting",650000.0],PARAMETER["false_northing",200000.0],PARAMETER["scale_factor",0.99993],PARAMETER["azimuth",90.0],PARAMETER["longitude_of_center",19.04857177777778],PARAMETER["latitude_of_center",47.14439372222222],UNIT["Meter",1.0]]
Initial Extent:
XMin: 464983.2240000069
YMin: 43771.280000004976
XMax: 937383.2240000069
YMax: 350171.280000005
Spatial Reference: PROJCS["GRS_67_IUGG_1967_Hotine_Oblique_Mercator_Azimuth_Center",GEOGCS["GCS_GRS_67_IUGG_1967",DATUM["D_unknown",SPHEROID["GRS67",6378160.0,298.247167427]],PRIMEM["Greenwich",0.0],UNIT["Degree",0.0174532925199433]],PROJECTION["Hotine_Oblique_Mercator_Azimuth_Center"],PARAMETER["false_easting",650000.0],PARAMETER["false_northing",200000.0],PARAMETER["scale_factor",0.99993],PARAMETER["azimuth",90.0],PARAMETER["longitude_of_center",19.04857177777778],PARAMETER["latitude_of_center",47.14439372222222],UNIT["Meter",1.0]]
Full Extent:
XMin: 464983.2240000069
YMin: 43771.280000004976
XMax: 937383.2240000069
YMax: 350171.280000005
Spatial Reference: PROJCS["GRS_67_IUGG_1967_Hotine_Oblique_Mercator_Azimuth_Center",GEOGCS["GCS_GRS_67_IUGG_1967",DATUM["D_unknown",SPHEROID["GRS67",6378160.0,298.247167427]],PRIMEM["Greenwich",0.0],UNIT["Degree",0.0174532925199433]],PROJECTION["Hotine_Oblique_Mercator_Azimuth_Center"],PARAMETER["false_easting",650000.0],PARAMETER["false_northing",200000.0],PARAMETER["scale_factor",0.99993],PARAMETER["azimuth",90.0],PARAMETER["longitude_of_center",19.04857177777778],PARAMETER["latitude_of_center",47.14439372222222],UNIT["Meter",1.0]]
Pixel Size X: 50.0
Pixel Size Y: 50.0
Band Count: 1
Pixel Type: F32
RasterFunction Infos: {"rasterFunctionInfos": [{
"name": "None",
"description": "",
"help": ""
}]}
Mensuration Capabilities: Basic
Has Histograms: true
Has Colormap: false
Has Multi Dimensions : false
Rendering Rule:
Min Scale: 0
Max Scale: 0
Copyright Text:
Service Data Type: esriImageServiceDataTypeGeneric
Min Values: 0
Max Values: 93.24247741699219
Mean Values: 14.329634546759166
Standard Deviation Values: 13.610085353488529
Object ID Field:
Fields:
None
Default Mosaic Method: Center
Allowed Mosaic Methods:
SortField:
SortValue: null
Mosaic Operator: First
Default Compression Quality: 75
Default Resampling Method: Bilinear
Max Record Count: null
Max Image Height: 4100
Max Image Width: 15000
Max Download Image Count: null
Max Mosaic Image Count: null
Allow Raster Function: true
Allow Compute TiePoints: false
Supports Statistics: false
Supports Advanced Queries: false
Use StandardizedQueries: true
Raster Type Infos:
Name: Raster Dataset
Description: Supports all ArcGIS Raster Datasets
Help:
Has Raster Attribute Table: false
Edit Fields Info: null
Ownership Based AccessControl For Rasters: null
Child Resources:
Info
Histograms
Key Properties
Legend
MultiDimensionalInfo
rasterFunctionInfos
Supported Operations:
Export Image
Identify
Measure
Compute Histograms
Compute Statistics Histograms
Get Samples
Compute Class Statistics
Query Boundary