View In:
ArcGIS JavaScript
ArcGIS Online Map Viewer
ArcGIS Earth
ArcMap
View Footprint In:
ArcGIS Online Map Viewer
Service Description: Atlaszok/mo_belviz_500e_jpg
Name: Raszter/Belvizi
Description: Atlaszok/mo_belviz_500e_jpg
Single Fused Map Cache: false
Extent:
XMin: 1754300.6738756194
YMin: 5702642.930537948
XMax: 2568001.200518557
YMax: 6236557.380507112
Spatial Reference: 102100
(3857)
Initial Extent:
XMin: 1754300.6738756194
YMin: 5702642.930537948
XMax: 2568001.200518557
YMax: 6236557.380507112
Spatial Reference: 102100
(3857)
Full Extent:
XMin: 1754300.6738756194
YMin: 5702642.930537948
XMax: 2568001.200518557
YMax: 6236557.380507112
Spatial Reference: 102100
(3857)
Pixel Size X: 21.292699899069408
Pixel Size Y: 21.29269989906932
Band Count: 3
Pixel Type: U8
RasterFunction Infos: {"rasterFunctionInfos": [{
"name": "None",
"description": "",
"help": ""
}]}
Mensuration Capabilities: Basic
Has Histograms: true
Has Colormap: false
Has Multi Dimensions : false
Rendering Rule:
Min Scale: 0
Max Scale: 0
Copyright Text:
Service Data Type: esriImageServiceDataTypeRGB
Min Values: 0, 14, 0
Max Values: 255, 255, 255
Mean Values: 229.27029611372467, 230.28669881487022, 223.21559589227877
Standard Deviation Values: 54.137092381334845, 45.65459722612858, 48.25502380662316
Object ID Field:
Fields:
None
Default Mosaic Method: Center
Allowed Mosaic Methods:
SortField:
SortValue: null
Mosaic Operator: First
Default Compression Quality: 75
Default Resampling Method: Bilinear
Max Record Count: null
Max Image Height: 4100
Max Image Width: 15000
Max Download Image Count: null
Max Mosaic Image Count: null
Allow Raster Function: true
Allow Compute TiePoints: false
Supports Statistics: false
Supports Advanced Queries: false
Use StandardizedQueries: true
Raster Type Infos:
Name: Raster Dataset
Description: Supports all ArcGIS Raster Datasets
Help:
Has Raster Attribute Table: false
Edit Fields Info: null
Ownership Based AccessControl For Rasters: null
Child Resources:
Info
Histograms
Key Properties
Legend
MultiDimensionalInfo
rasterFunctionInfos
Supported Operations:
Export Image
Identify
Measure
Compute Histograms
Compute Statistics Histograms
Get Samples
Compute Class Statistics
Query Boundary