View In:
ArcGIS JavaScript
ArcGIS Online Map Viewer
ArcGIS Earth
ArcMap
View Footprint In:
ArcGIS Online Map Viewer
Service Description: Var/Aktualis_havi_atlag_melyseg
Name: Var/Aktualis_havi_atlag_melyseg
Description:
Single Fused Map Cache: false
Extent:
XMin: 426402.9962642044
YMin: 43770.99556443488
XMax: 937402.9962642044
YMax: 362970.9955644349
Spatial Reference: PROJCS["HD_1972_Egyseges_Orszagos_Vetuleti",GEOGCS["GCS_Hungarian_1972",DATUM["D_Hungarian_1972",SPHEROID["GRS_1967",6378160.0,298.247167427]],PRIMEM["Greenwich",0.0],UNIT["Degree",0.0174532925199433]],PROJECTION["Hotine_Oblique_Mercator_Azimuth_Center"],PARAMETER["False_Easting",650000.0],PARAMETER["False_Northing",200000.0],PARAMETER["Scale_Factor",0.99993],PARAMETER["Azimuth",90.0],PARAMETER["Longitude_Of_Center",19.048571778],PARAMETER["Latitude_Of_Center",47.14439372222],UNIT["Meter",1.0]]
Initial Extent:
XMin: 426402.9962642044
YMin: 43770.99556443488
XMax: 937402.9962642044
YMax: 362970.9955644349
Spatial Reference: PROJCS["HD_1972_Egyseges_Orszagos_Vetuleti",GEOGCS["GCS_Hungarian_1972",DATUM["D_Hungarian_1972",SPHEROID["GRS_1967",6378160.0,298.247167427]],PRIMEM["Greenwich",0.0],UNIT["Degree",0.0174532925199433]],PROJECTION["Hotine_Oblique_Mercator_Azimuth_Center"],PARAMETER["False_Easting",650000.0],PARAMETER["False_Northing",200000.0],PARAMETER["Scale_Factor",0.99993],PARAMETER["Azimuth",90.0],PARAMETER["Longitude_Of_Center",19.048571778],PARAMETER["Latitude_Of_Center",47.14439372222],UNIT["Meter",1.0]]
Full Extent:
XMin: 426402.9962642044
YMin: 43770.99556443488
XMax: 937402.9962642044
YMax: 362970.9955644349
Spatial Reference: PROJCS["HD_1972_Egyseges_Orszagos_Vetuleti",GEOGCS["GCS_Hungarian_1972",DATUM["D_Hungarian_1972",SPHEROID["GRS_1967",6378160.0,298.247167427]],PRIMEM["Greenwich",0.0],UNIT["Degree",0.0174532925199433]],PROJECTION["Hotine_Oblique_Mercator_Azimuth_Center"],PARAMETER["False_Easting",650000.0],PARAMETER["False_Northing",200000.0],PARAMETER["Scale_Factor",0.99993],PARAMETER["Azimuth",90.0],PARAMETER["Longitude_Of_Center",19.048571778],PARAMETER["Latitude_Of_Center",47.14439372222],UNIT["Meter",1.0]]
Pixel Size X: 50.0
Pixel Size Y: 50.0
Band Count: 1
Pixel Type: F32
RasterFunction Infos: {"rasterFunctionInfos": [
{
"name": "RaszterTalajvizkeszlet_m",
"description": "A raster function template.",
"help": ""
},
{
"name": "None",
"description": "",
"help": ""
}
]}
Mensuration Capabilities: Basic
Has Histograms: true
Has Colormap: false
Has Multi Dimensions : false
Rendering Rule:
Min Scale: 0
Max Scale: 0
Copyright Text:
Service Data Type: esriImageServiceDataTypeGeneric
Min Values: 0.7421088218688965
Max Values: 17.038299560546875
Mean Values: 4.265329804521284
Standard Deviation Values: 0.8342854686712396
Object ID Field:
Fields:
None
Default Mosaic Method: Center
Allowed Mosaic Methods:
SortField:
SortValue: null
Mosaic Operator: First
Default Compression Quality: 75
Default Resampling Method: Bilinear
Max Record Count: null
Max Image Height: 4100
Max Image Width: 15000
Max Download Image Count: null
Max Mosaic Image Count: null
Allow Raster Function: true
Allow Compute TiePoints: false
Supports Statistics: false
Supports Advanced Queries: false
Use StandardizedQueries: true
Raster Type Infos:
Name: Raster Dataset
Description: Supports all ArcGIS Raster Datasets
Help:
Has Raster Attribute Table: false
Edit Fields Info: null
Ownership Based AccessControl For Rasters: null
Child Resources:
Info
Histograms
Key Properties
Legend
MultiDimensionalInfo
rasterFunctionInfos
Supported Operations:
Export Image
Identify
Measure
Compute Histograms
Compute Statistics Histograms
Get Samples
Compute Class Statistics
Query Boundary